BEGIN:VCALENDAR
VERSION:2.0
PRODID:-//TalkDeath - ECPv6.15.16//NONSGML v1.0//EN
CALSCALE:GREGORIAN
METHOD:PUBLISH
X-WR-CALNAME:TalkDeath
X-ORIGINAL-URL:https://talkdeath.com
X-WR-CALDESC:Events for TalkDeath
REFRESH-INTERVAL;VALUE=DURATION:PT1H
X-Robots-Tag:noindex
X-PUBLISHED-TTL:PT1H
BEGIN:VTIMEZONE
TZID:America/Toronto
BEGIN:DAYLIGHT
TZOFFSETFROM:-0500
TZOFFSETTO:-0400
TZNAME:EDT
DTSTART:20240310T070000
END:DAYLIGHT
BEGIN:STANDARD
TZOFFSETFROM:-0400
TZOFFSETTO:-0500
TZNAME:EST
DTSTART:20241103T060000
END:STANDARD
BEGIN:DAYLIGHT
TZOFFSETFROM:-0500
TZOFFSETTO:-0400
TZNAME:EDT
DTSTART:20250309T070000
END:DAYLIGHT
BEGIN:STANDARD
TZOFFSETFROM:-0400
TZOFFSETTO:-0500
TZNAME:EST
DTSTART:20251102T060000
END:STANDARD
BEGIN:DAYLIGHT
TZOFFSETFROM:-0500
TZOFFSETTO:-0400
TZNAME:EDT
DTSTART:20260308T070000
END:DAYLIGHT
BEGIN:STANDARD
TZOFFSETFROM:-0400
TZOFFSETTO:-0500
TZNAME:EST
DTSTART:20261101T060000
END:STANDARD
END:VTIMEZONE
BEGIN:VEVENT
DTSTART;TZID=America/Toronto:20251106T180000
DTEND;TZID=America/Toronto:20251106T200000
DTSTAMP:20260419T110240
CREATED:20251016T133157Z
LAST-MODIFIED:20251016T133157Z
UID:10001492-1762452000-1762459200@talkdeath.com
SUMMARY:In the Wake of Life...An immersive\, theatrical experience
DESCRIPTION:A Bold Theatrical Experiment in a Sacred Space \nStaged in the chapel’s historic rooms\, In the Wake of Life invites audiences to move through a series of short plays\, live vignettes\, and interactive art installations. Each room becomes its own act — a poetic encounter with memory\, mourning\, and meaning. Licensed grief professionals are on hand to ensure that this deeply emotional experience remains grounded in compassion and care. \n“This is not grief as tragedy — it’s grief as transformation\,” says playwright and producer Elizabeth Coplan\, founder of Grief Dialogues. “By bringing theatre into a funeral home\, we’re reclaiming the language of loss and giving audiences a new way to see themselves in it — through story\, humor\, and shared humanity.”
URL:https://talkdeath.com/event/in-the-wake-of-life-an-immersive-theatrical-experience/2025-11-06/2/
LOCATION:Frank E. Campbell Funeral Home\, 1076 Madison Ave\, New York City\, NY\, 10028\, United States
CATEGORIES:Community Meet Up
ATTACH;FMTTYPE=image/jpeg:https://talkdeath.com/wp-content/uploads/2025/10/In-The-Wake-of-Life-Our-Town-Paper-Press-copy-scaled.jpeg
ORGANIZER;CN="Grief Dialogues":MAILTO:elizabethcoplan@gmail.com
END:VEVENT
BEGIN:VEVENT
DTSTART;TZID=America/Toronto:20251106T080000
DTEND;TZID=America/Toronto:20251106T170000
DTSTAMP:20260419T110240
CREATED:20251016T133157Z
LAST-MODIFIED:20251016T133157Z
UID:10001491-1762416000-1762448400@talkdeath.com
SUMMARY:In the Wake of Life...An immersive\, theatrical experience
DESCRIPTION:A Bold Theatrical Experiment in a Sacred Space \nStaged in the chapel’s historic rooms\, In the Wake of Life invites audiences to move through a series of short plays\, live vignettes\, and interactive art installations. Each room becomes its own act — a poetic encounter with memory\, mourning\, and meaning. Licensed grief professionals are on hand to ensure that this deeply emotional experience remains grounded in compassion and care. \n“This is not grief as tragedy — it’s grief as transformation\,” says playwright and producer Elizabeth Coplan\, founder of Grief Dialogues. “By bringing theatre into a funeral home\, we’re reclaiming the language of loss and giving audiences a new way to see themselves in it — through story\, humor\, and shared humanity.”
URL:https://talkdeath.com/event/in-the-wake-of-life-an-immersive-theatrical-experience/2025-11-06/1/
LOCATION:Frank E. Campbell Funeral Home\, 1076 Madison Ave\, New York City\, NY\, 10028\, United States
CATEGORIES:Community Meet Up
ATTACH;FMTTYPE=image/jpeg:https://talkdeath.com/wp-content/uploads/2025/10/In-The-Wake-of-Life-Our-Town-Paper-Press-copy-scaled.jpeg
ORGANIZER;CN="Grief Dialogues":MAILTO:elizabethcoplan@gmail.com
END:VEVENT
END:VCALENDAR