BEGIN:VCALENDAR
VERSION:2.0
PRODID:-//TalkDeath - ECPv6.15.19//NONSGML v1.0//EN
CALSCALE:GREGORIAN
METHOD:PUBLISH
X-WR-CALNAME:TalkDeath
X-ORIGINAL-URL:https://www.talkdeath.com
X-WR-CALDESC:Events for TalkDeath
REFRESH-INTERVAL;VALUE=DURATION:PT1H
X-Robots-Tag:noindex
X-PUBLISHED-TTL:PT1H
BEGIN:VTIMEZONE
TZID:America/Toronto
BEGIN:DAYLIGHT
TZOFFSETFROM:-0500
TZOFFSETTO:-0400
TZNAME:EDT
DTSTART:20240310T070000
END:DAYLIGHT
BEGIN:STANDARD
TZOFFSETFROM:-0400
TZOFFSETTO:-0500
TZNAME:EST
DTSTART:20241103T060000
END:STANDARD
BEGIN:DAYLIGHT
TZOFFSETFROM:-0500
TZOFFSETTO:-0400
TZNAME:EDT
DTSTART:20250309T070000
END:DAYLIGHT
BEGIN:STANDARD
TZOFFSETFROM:-0400
TZOFFSETTO:-0500
TZNAME:EST
DTSTART:20251102T060000
END:STANDARD
BEGIN:DAYLIGHT
TZOFFSETFROM:-0500
TZOFFSETTO:-0400
TZNAME:EDT
DTSTART:20260308T070000
END:DAYLIGHT
BEGIN:STANDARD
TZOFFSETFROM:-0400
TZOFFSETTO:-0500
TZNAME:EST
DTSTART:20261101T060000
END:STANDARD
END:VTIMEZONE
BEGIN:VEVENT
DTSTART;TZID=America/Toronto:20250419T140000
DTEND;TZID=America/Toronto:20250419T160000
DTSTAMP:20260423T053353
CREATED:20250414T125835Z
LAST-MODIFIED:20250414T125835Z
UID:10000026-1745071200-1745078400@www.talkdeath.com
SUMMARY:Death Café – Open Conversation on Life and Death
DESCRIPTION:Join us for an open\, judgment-free conversation about death\, dying\, and everything in between at our next Death Café. \nThis is not a grief group\, seminar\, or counseling session—just a welcoming space to explore big questions\, share thoughts\, and connect with others over treats. \nAt a Death Café\, there’s no set agenda or lecture. Instead\, we gather in community to talk openly about a topic that affects us all\, but is often left unspoken. Whether you’re processing personal experiences\, curious about end-of-life matters\, or simply wish to listen\, you’re welcome here. \nCome when you can\, stay as long as you’d like. Hosted by Alexis Hughes of Without Fear\, end-of-life doula and community educator. \nLearn more at www.withoutfeardoula.com
URL:https://www.talkdeath.com/event/death-cafe-open-conversation-on-life-and-death/
LOCATION:Chattanooga Library\, 1001 Broad St\, Chattanooga\, TN\, 37402\, United States
CATEGORIES:Community Meet Up,Death Cafe
ATTACH;FMTTYPE=image/jpeg:https://www.talkdeath.com/wp-content/uploads/2025/04/death-cafe-icon.jpg
ORGANIZER;CN="Chattanooga Death Collective":MAILTO:withoutfeardoula@gmail.com
END:VEVENT
END:VCALENDAR