BEGIN:VCALENDAR
VERSION:2.0
PRODID:-//TalkDeath - ECPv6.15.16//NONSGML v1.0//EN
CALSCALE:GREGORIAN
METHOD:PUBLISH
X-ORIGINAL-URL:https://talkdeath.com
X-WR-CALDESC:Events for TalkDeath
REFRESH-INTERVAL;VALUE=DURATION:PT1H
X-Robots-Tag:noindex
X-PUBLISHED-TTL:PT1H
BEGIN:VTIMEZONE
TZID:America/Toronto
BEGIN:DAYLIGHT
TZOFFSETFROM:-0500
TZOFFSETTO:-0400
TZNAME:EDT
DTSTART:20250309T070000
END:DAYLIGHT
BEGIN:STANDARD
TZOFFSETFROM:-0400
TZOFFSETTO:-0500
TZNAME:EST
DTSTART:20251102T060000
END:STANDARD
BEGIN:DAYLIGHT
TZOFFSETFROM:-0500
TZOFFSETTO:-0400
TZNAME:EDT
DTSTART:20260308T070000
END:DAYLIGHT
BEGIN:STANDARD
TZOFFSETFROM:-0400
TZOFFSETTO:-0500
TZNAME:EST
DTSTART:20261101T060000
END:STANDARD
BEGIN:DAYLIGHT
TZOFFSETFROM:-0500
TZOFFSETTO:-0400
TZNAME:EDT
DTSTART:20270314T070000
END:DAYLIGHT
BEGIN:STANDARD
TZOFFSETFROM:-0400
TZOFFSETTO:-0500
TZNAME:EST
DTSTART:20271107T060000
END:STANDARD
END:VTIMEZONE
BEGIN:VEVENT
DTSTART;VALUE=DATE:20260523
DTEND;VALUE=DATE:20260524
DTSTAMP:20260419T192835
CREATED:20260316T174959Z
LAST-MODIFIED:20260316T174959Z
UID:10001836-1779494400-1779580799@talkdeath.com
SUMMARY:Deathly Matters
DESCRIPTION:Deathly Matters is a one-day community conference dedicated to doing death better\, featuring 12 speakers exploring emerging perspectives on death\, dying\, grief\, MAiD\, death doulas\, green burial\, ritual\, psychedelics\, and more. In addition to learning and conversation\, attendees can experience art\, music\, a community mandala\, the Before I Die wall\, and the Doing Death Different marketplace showcasing holistic\, community-based approaches to end-of-life care.
URL:https://talkdeath.com/event/deathly-matters/
LOCATION:McTavish Academy of Art\, 1720 McTavish Road\, North Saanich\, BC\, V8L 5T9\, Canada
CATEGORIES:Conference
ATTACH;FMTTYPE=image/jpeg:https://talkdeath.com/wp-content/uploads/2026/03/IG-Deathly-Matters-2.jpg
ORGANIZER;CN="Karla Kerr":MAILTO:hello@karlakerr.ca
END:VEVENT
BEGIN:VEVENT
DTSTART;TZID=America/Toronto:20260523T110000
DTEND;TZID=America/Toronto:20260523T150000
DTSTAMP:20260419T192835
CREATED:20260323T135826Z
LAST-MODIFIED:20260323T135826Z
UID:10001840-1779534000-1779548400@talkdeath.com
SUMMARY:Doing Death Different Marketplace
DESCRIPTION:Doing Death Different is a unique marketplace\, exploring alternative approaches to end-of-life care\, promoting a more conscious and holistic perspective.
URL:https://talkdeath.com/event/doing-death-different-marketplace/
LOCATION:McTavish Academy of Art\, 1720 McTavish Road\, North Saanich\, BC\, V8L 5T9\, Canada
CATEGORIES:Conference,Education,Funeral,Workshop
ATTACH;FMTTYPE=image/png:https://talkdeath.com/wp-content/uploads/2026/03/Doing-Death-Different-Logo.png
ORGANIZER;CN="Doing Death Different":MAILTO:doingdeathdifferent@gmail.com
END:VEVENT
END:VCALENDAR