BEGIN:VCALENDAR
VERSION:2.0
PRODID:-//TalkDeath - ECPv6.15.19//NONSGML v1.0//EN
CALSCALE:GREGORIAN
METHOD:PUBLISH
X-WR-CALNAME:TalkDeath
X-ORIGINAL-URL:https://www.talkdeath.com
X-WR-CALDESC:Events for TalkDeath
REFRESH-INTERVAL;VALUE=DURATION:PT1H
X-Robots-Tag:noindex
X-PUBLISHED-TTL:PT1H
BEGIN:VTIMEZONE
TZID:America/New_York
BEGIN:DAYLIGHT
TZOFFSETFROM:-0500
TZOFFSETTO:-0400
TZNAME:EDT
DTSTART:20250309T070000
END:DAYLIGHT
BEGIN:STANDARD
TZOFFSETFROM:-0400
TZOFFSETTO:-0500
TZNAME:EST
DTSTART:20251102T060000
END:STANDARD
BEGIN:DAYLIGHT
TZOFFSETFROM:-0500
TZOFFSETTO:-0400
TZNAME:EDT
DTSTART:20260308T070000
END:DAYLIGHT
BEGIN:STANDARD
TZOFFSETFROM:-0400
TZOFFSETTO:-0500
TZNAME:EST
DTSTART:20261101T060000
END:STANDARD
BEGIN:DAYLIGHT
TZOFFSETFROM:-0500
TZOFFSETTO:-0400
TZNAME:EDT
DTSTART:20270314T070000
END:DAYLIGHT
BEGIN:STANDARD
TZOFFSETFROM:-0400
TZOFFSETTO:-0500
TZNAME:EST
DTSTART:20271107T060000
END:STANDARD
END:VTIMEZONE
BEGIN:VTIMEZONE
TZID:America/Toronto
BEGIN:DAYLIGHT
TZOFFSETFROM:-0500
TZOFFSETTO:-0400
TZNAME:EDT
DTSTART:20250309T070000
END:DAYLIGHT
BEGIN:STANDARD
TZOFFSETFROM:-0400
TZOFFSETTO:-0500
TZNAME:EST
DTSTART:20251102T060000
END:STANDARD
BEGIN:DAYLIGHT
TZOFFSETFROM:-0500
TZOFFSETTO:-0400
TZNAME:EDT
DTSTART:20260308T070000
END:DAYLIGHT
BEGIN:STANDARD
TZOFFSETFROM:-0400
TZOFFSETTO:-0500
TZNAME:EST
DTSTART:20261101T060000
END:STANDARD
BEGIN:DAYLIGHT
TZOFFSETFROM:-0500
TZOFFSETTO:-0400
TZNAME:EDT
DTSTART:20270314T070000
END:DAYLIGHT
BEGIN:STANDARD
TZOFFSETFROM:-0400
TZOFFSETTO:-0500
TZNAME:EST
DTSTART:20271107T060000
END:STANDARD
END:VTIMEZONE
BEGIN:VTIMEZONE
TZID:America/Los_Angeles
BEGIN:DAYLIGHT
TZOFFSETFROM:-0800
TZOFFSETTO:-0700
TZNAME:PDT
DTSTART:20250309T100000
END:DAYLIGHT
BEGIN:STANDARD
TZOFFSETFROM:-0700
TZOFFSETTO:-0800
TZNAME:PST
DTSTART:20251102T090000
END:STANDARD
BEGIN:DAYLIGHT
TZOFFSETFROM:-0800
TZOFFSETTO:-0700
TZNAME:PDT
DTSTART:20260308T100000
END:DAYLIGHT
BEGIN:STANDARD
TZOFFSETFROM:-0700
TZOFFSETTO:-0800
TZNAME:PST
DTSTART:20261101T090000
END:STANDARD
BEGIN:DAYLIGHT
TZOFFSETFROM:-0800
TZOFFSETTO:-0700
TZNAME:PDT
DTSTART:20270314T100000
END:DAYLIGHT
BEGIN:STANDARD
TZOFFSETFROM:-0700
TZOFFSETTO:-0800
TZNAME:PST
DTSTART:20271107T090000
END:STANDARD
END:VTIMEZONE
BEGIN:VEVENT
DTSTART;TZID=America/New_York:20260222T080000
DTEND;TZID=America/New_York:20260516T170000
DTSTAMP:20260422T221415
CREATED:20260304T155551Z
LAST-MODIFIED:20260304T155551Z
UID:10001823-1771747200-1778950800@www.talkdeath.com
SUMMARY:Reclaiming Death - Art | Ritual | Advocacy
DESCRIPTION:Ma’s House is pleased to present Reclaiming Death — Art | Ritual | Advocacy\, a group exhibition featuring 20 artists expressing personal and cultural connections to end-of-life practices. The exhibition will run from Sunday\, February 22—Sunday\, May 16\, 2026. \nDeath is one of life’s few universal experiences. As long as people are born\, people will die. And as long as people have died\, artists have played an integral role in creating cultural death practices. Our collective relationship to death and dying is inextricably tied to our humanity and mending that relationship directly impacts all we experience in life. “Reclaiming Death” is an ongoing pursuit of this mending which requires the communal effort of every participating artist and their unique approach to deathwork. \nNow in its 2nd iteration\, “Reclaiming Death” began as a research project by artist\, death doula\, and Ma’s House Director of Curation\, Brianna L. Hernández as part of Hyperallergic’s Emily Hall Tremaine Journalism Fellowship for Curators. The series of online articles grew into an in-person exhibition at Ma’s House in 2024\, and most recently hosted an open call for the 2nd show and a printed publication\, available online and in-gallery.
URL:https://www.talkdeath.com/event/reclaiming-death-art-ritual-advocacy/
LOCATION:Ma’s House & BIPOC Art Studio\, 159 Old Point Road\, Southampton\, NY\, 11968\, United States
CATEGORIES:Arts and Culture,BiPoC
ATTACH;FMTTYPE=image/jpeg:https://www.talkdeath.com/wp-content/uploads/2026/03/Reclaiming-Death-Open-Hours-Flyer.jpg
ORGANIZER;CN="Brianna L. Hernandez":MAILTO:briannalhb@gmail.com
END:VEVENT
BEGIN:VEVENT
DTSTART;VALUE=DATE:20260309
DTEND;VALUE=DATE:20260310
DTSTAMP:20260422T221415
CREATED:20260126T161727Z
LAST-MODIFIED:20260126T161727Z
UID:10001673-1773014400-1773100799@www.talkdeath.com
SUMMARY:Later & end of life planning in-person workshop
DESCRIPTION:🌻 A one-day in-person workshop to help you get organised with wills\, powers of attorney\, key paperwork\, finances\, funeral wishes and digital life.\nPractical guidance\, templates and support to help you get everything clearly documented in one place.\n4 guest experts are joining me on this in person workshop to ensure you have accurate and detailed information and can answer any legal or financial questions.
URL:https://www.talkdeath.com/event/later-end-of-life-planning-in-person-workshop/
LOCATION:KY
CATEGORIES:Education
ATTACH;FMTTYPE=image/jpeg:https://www.talkdeath.com/wp-content/uploads/2026/01/8f26f722-6d07-497f-8b58-f30eba0ac8f2.jpeg
END:VEVENT
BEGIN:VEVENT
DTSTART;TZID=America/Los_Angeles:20260309T180000
DTEND;TZID=America/Los_Angeles:20260309T190000
DTSTAMP:20260422T221415
CREATED:20260210T153933Z
LAST-MODIFIED:20260210T153933Z
UID:10001681-1773079200-1773082800@www.talkdeath.com
SUMMARY:Thinking About Becoming a Death Doula? Q&A with The Death Network
DESCRIPTION:💻 Death Doula Community Conversations \nAre you curious about becoming a death doula – or navigating the early stages of building your practice? Whether you’re just starting out or looking for guidance as you grow\, this monthly gathering is for you. \nThe Death Network Collective invites you to join us for an open\, supportive conversation about the realities of death doula work: the highs\, the lows\, and everything in between.\nEach month we’ll dive into common questions like: \nHow do I connect with my community as a new death doula?\nDo I need a website or social media presence?\nWho/what/where/why and how do I network?\nHow do I set pricing and talk about money with potential clients?\nThis is not a class or a lecture – it’s a casual space for doulas\, by doulas\, where you can ask questions\, share experiences\, and learn from each other. \n📅 When: 2nd Monday of every month\n⏰ Time: 6:00–7:00 pm PST\n📍 Where: Zoom (link provided upon RSVP)\n💜 Who: Anyone interested in death doula work or building their practice \nThe recording will be provided to all who RSVP for this event. \nQuestions? email penny@thedeathnetwork.com
URL:https://www.talkdeath.com/event/thinking-about-becoming-a-death-doula-qa-with-the-death-network/
LOCATION:Online
CATEGORIES:Cemetery,Community Meet Up,Education,Grief Release,Training,Webinar,Workshop
ATTACH;FMTTYPE=image/png:https://www.talkdeath.com/wp-content/uploads/2026/02/2nd-Monday-doula-chat-qa-3.png
ORGANIZER;CN="The Death Network":MAILTO:hello@dodeathdifferent.com
END:VEVENT
END:VCALENDAR