BEGIN:VCALENDAR
VERSION:2.0
PRODID:-//TalkDeath - ECPv6.15.19//NONSGML v1.0//EN
CALSCALE:GREGORIAN
METHOD:PUBLISH
X-WR-CALNAME:TalkDeath
X-ORIGINAL-URL:https://www.talkdeath.com
X-WR-CALDESC:Events for TalkDeath
REFRESH-INTERVAL;VALUE=DURATION:PT1H
X-Robots-Tag:noindex
X-PUBLISHED-TTL:PT1H
BEGIN:VTIMEZONE
TZID:Australia/Sydney
BEGIN:STANDARD
TZOFFSETFROM:+1100
TZOFFSETTO:+1000
TZNAME:AEST
DTSTART:20250405T160000
END:STANDARD
BEGIN:DAYLIGHT
TZOFFSETFROM:+1000
TZOFFSETTO:+1100
TZNAME:AEDT
DTSTART:20251004T160000
END:DAYLIGHT
BEGIN:STANDARD
TZOFFSETFROM:+1100
TZOFFSETTO:+1000
TZNAME:AEST
DTSTART:20260404T160000
END:STANDARD
BEGIN:DAYLIGHT
TZOFFSETFROM:+1000
TZOFFSETTO:+1100
TZNAME:AEDT
DTSTART:20261003T160000
END:DAYLIGHT
BEGIN:STANDARD
TZOFFSETFROM:+1100
TZOFFSETTO:+1000
TZNAME:AEST
DTSTART:20270403T160000
END:STANDARD
BEGIN:DAYLIGHT
TZOFFSETFROM:+1000
TZOFFSETTO:+1100
TZNAME:AEDT
DTSTART:20271002T160000
END:DAYLIGHT
END:VTIMEZONE
BEGIN:VEVENT
DTSTART;TZID=Australia/Sydney:20260220T090000
DTEND;TZID=Australia/Sydney:20260220T103000
DTSTAMP:20260422T094431
CREATED:20260202T190739Z
LAST-MODIFIED:20260202T190739Z
UID:10001678-1771578000-1771583400@www.talkdeath.com
SUMMARY:Talking About Death Won't Kill You - Virtual Death Cafe
DESCRIPTION:Join me for a cuppa and a chat about one of life’s certainties\, death.\nThis 60-90 minute event is an open and safe discussion about end of life and all that comes with it.\nIf you are caring for a loved one\, have a life limiting illness\, want to get your affairs in order\, keen to learn from others experiences\, grow your death literacy or just curious\, this event is for you.\nRegister now and be part of the conversation. \nNOTE – this is not grief counselling. This space is designed for light chat and sharing. \nHosted by Kelly – The Departure Coach (from Sydney\, Australia)
URL:https://www.talkdeath.com/event/talking-about-death-wont-kill-you-virtual-death-cafe/
LOCATION:KY
ATTACH;FMTTYPE=image/png:https://www.talkdeath.com/wp-content/uploads/2026/02/Untitled-design-6.png
ORGANIZER;CN="The Departure Coach":MAILTO:thedeparturecoach@outlook.com
END:VEVENT
END:VCALENDAR