BEGIN:VCALENDAR
VERSION:2.0
PRODID:-//TalkDeath - ECPv6.15.19//NONSGML v1.0//EN
CALSCALE:GREGORIAN
METHOD:PUBLISH
X-WR-CALNAME:TalkDeath
X-ORIGINAL-URL:https://www.talkdeath.com
X-WR-CALDESC:Events for TalkDeath
REFRESH-INTERVAL;VALUE=DURATION:PT1H
X-Robots-Tag:noindex
X-PUBLISHED-TTL:PT1H
BEGIN:VTIMEZONE
TZID:America/New_York
BEGIN:DAYLIGHT
TZOFFSETFROM:-0500
TZOFFSETTO:-0400
TZNAME:EDT
DTSTART:20250309T070000
END:DAYLIGHT
BEGIN:STANDARD
TZOFFSETFROM:-0400
TZOFFSETTO:-0500
TZNAME:EST
DTSTART:20251102T060000
END:STANDARD
BEGIN:DAYLIGHT
TZOFFSETFROM:-0500
TZOFFSETTO:-0400
TZNAME:EDT
DTSTART:20260308T070000
END:DAYLIGHT
BEGIN:STANDARD
TZOFFSETFROM:-0400
TZOFFSETTO:-0500
TZNAME:EST
DTSTART:20261101T060000
END:STANDARD
BEGIN:DAYLIGHT
TZOFFSETFROM:-0500
TZOFFSETTO:-0400
TZNAME:EDT
DTSTART:20270314T070000
END:DAYLIGHT
BEGIN:STANDARD
TZOFFSETFROM:-0400
TZOFFSETTO:-0500
TZNAME:EST
DTSTART:20271107T060000
END:STANDARD
END:VTIMEZONE
BEGIN:VTIMEZONE
TZID:Europe/Madrid
BEGIN:DAYLIGHT
TZOFFSETFROM:+0100
TZOFFSETTO:+0200
TZNAME:CEST
DTSTART:20250330T010000
END:DAYLIGHT
BEGIN:STANDARD
TZOFFSETFROM:+0200
TZOFFSETTO:+0100
TZNAME:CET
DTSTART:20251026T010000
END:STANDARD
BEGIN:DAYLIGHT
TZOFFSETFROM:+0100
TZOFFSETTO:+0200
TZNAME:CEST
DTSTART:20260329T010000
END:DAYLIGHT
BEGIN:STANDARD
TZOFFSETFROM:+0200
TZOFFSETTO:+0100
TZNAME:CET
DTSTART:20261025T010000
END:STANDARD
BEGIN:DAYLIGHT
TZOFFSETFROM:+0100
TZOFFSETTO:+0200
TZNAME:CEST
DTSTART:20270328T010000
END:DAYLIGHT
BEGIN:STANDARD
TZOFFSETFROM:+0200
TZOFFSETTO:+0100
TZNAME:CET
DTSTART:20271031T010000
END:STANDARD
END:VTIMEZONE
BEGIN:VEVENT
DTSTART;TZID=America/New_York:20260206T170000
DTEND;TZID=America/New_York:20260206T183000
DTSTAMP:20260422T094543
CREATED:20260127T155323Z
LAST-MODIFIED:20260127T155323Z
UID:10001676-1770397200-1770402600@www.talkdeath.com
SUMMARY:Virtual Silent Book Club of Death
DESCRIPTION:Death Project Manager\, Silent Book Club of Death\, Silent Book Club of Death NYC\, Silent Book Club of Death MTL\, and TalkDeath’s Book Club are thrilled to invite you to a Virtual Silent Book Club of Death meeting! \nThis virtual gathering will be on Friday\, February 6th at 5pm ET/ 4pm CT/ 3pm MT/ 2pm PT. \nSilent Book Club of Death meetings are structured like any Silent Book Club gathering: you meet up with friendly\, like-minded readers\, and then politely ignore them while reading a book of your own choosing. Members are encouraged to bring books related to the theme of death\, dying\, grief\, aging\, or mortality\, but anyone who wants to just read quietly in a death-conscious space is welcome to join. \nFolks are welcome to be on or off camera. We’ll play some relaxing music. After the designated reading time\, folks are welcome to stay on and share a bit about what they’re reading and connect. \nA loose agenda for the evening is as follows: \n5PM – 5:15PM: readers join; introductions of hosts and guests \n5:15 – 5:45PM: silent reading time while music plays \n5:45 – 6:15PM: share out about what you’ve read and lightly facilitated group discussion \n6:15 – 6:30PM: goodbyes and wrap up \nThis virtual event will be held via Zoom. Closed captions will be enabled. If we can do anything to provide accessibility\, please do not hesitate to reach out to rian@talkdeath.com \nGuests who RSVP will be emailed the Zoom link. \nWe hope you can join us! \nMore info and RSVP here: https://www.eventbrite.com/e/virtual-silent-book-club-of-death-tickets-1980507603556?aff=oddtdtcreator
URL:https://www.talkdeath.com/event/virtual-silent-book-club-of-death-3/
LOCATION:KY
CATEGORIES:Arts and Culture,Community Meet Up
ATTACH;FMTTYPE=image/png:https://www.talkdeath.com/wp-content/uploads/2026/01/image-1.png
ORGANIZER;CN="Death Project Manager":MAILTO:info@deathprojectmanager.com
END:VEVENT
BEGIN:VEVENT
DTSTART;TZID=Europe/Madrid:20260206T190000
DTEND;TZID=Europe/Madrid:20260206T210000
DTSTAMP:20260422T094543
CREATED:20260108T145046Z
LAST-MODIFIED:20260108T145834Z
UID:10001592-1770404400-1770411600@www.talkdeath.com
SUMMARY:Death Cafe Malaga
DESCRIPTION:A Death Cafe is a sacred space where we can start feeling comfortable enough to share our thoughts\, and our feelings about death… and life.\nMy name is Noelia\, I was the first person facilitating Death Cafe in Málaga (Spain)\, and this wonderful adventure started July 2020.\nIf you are around this part of the world\, can understand Spanish and feel like meeting an amazing bunch of people… you’re welcome!
URL:https://www.talkdeath.com/event/death-cafe-malaga/
LOCATION:Espacio La Libélula Malaga\, Calle Jonás 4\, Málaga\, Málaga\, 29013\, Spain
CATEGORIES:Death Cafe
ATTACH;FMTTYPE=image/png:https://www.talkdeath.com/wp-content/uploads/2026/01/Poster-DC-2025-26-1.png
ORGANIZER;CN="Noelia Correa Grief and Breathwork":MAILTO:contigo@noeliacorrea.es
END:VEVENT
END:VCALENDAR