BEGIN:VCALENDAR
VERSION:2.0
PRODID:-//TalkDeath - ECPv6.15.16//NONSGML v1.0//EN
CALSCALE:GREGORIAN
METHOD:PUBLISH
X-ORIGINAL-URL:https://talkdeath.com
X-WR-CALDESC:Events for TalkDeath
REFRESH-INTERVAL;VALUE=DURATION:PT1H
X-Robots-Tag:noindex
X-PUBLISHED-TTL:PT1H
BEGIN:VTIMEZONE
TZID:America/Toronto
BEGIN:DAYLIGHT
TZOFFSETFROM:-0500
TZOFFSETTO:-0400
TZNAME:EDT
DTSTART:20240310T070000
END:DAYLIGHT
BEGIN:STANDARD
TZOFFSETFROM:-0400
TZOFFSETTO:-0500
TZNAME:EST
DTSTART:20241103T060000
END:STANDARD
BEGIN:DAYLIGHT
TZOFFSETFROM:-0500
TZOFFSETTO:-0400
TZNAME:EDT
DTSTART:20250309T070000
END:DAYLIGHT
BEGIN:STANDARD
TZOFFSETFROM:-0400
TZOFFSETTO:-0500
TZNAME:EST
DTSTART:20251102T060000
END:STANDARD
BEGIN:DAYLIGHT
TZOFFSETFROM:-0500
TZOFFSETTO:-0400
TZNAME:EDT
DTSTART:20260308T070000
END:DAYLIGHT
BEGIN:STANDARD
TZOFFSETFROM:-0400
TZOFFSETTO:-0500
TZNAME:EST
DTSTART:20261101T060000
END:STANDARD
BEGIN:DAYLIGHT
TZOFFSETFROM:-0500
TZOFFSETTO:-0400
TZNAME:EDT
DTSTART:20270314T070000
END:DAYLIGHT
BEGIN:STANDARD
TZOFFSETFROM:-0400
TZOFFSETTO:-0500
TZNAME:EST
DTSTART:20271107T060000
END:STANDARD
END:VTIMEZONE
BEGIN:VTIMEZONE
TZID:America/Los_Angeles
BEGIN:DAYLIGHT
TZOFFSETFROM:-0800
TZOFFSETTO:-0700
TZNAME:PDT
DTSTART:20240310T100000
END:DAYLIGHT
BEGIN:STANDARD
TZOFFSETFROM:-0700
TZOFFSETTO:-0800
TZNAME:PST
DTSTART:20241103T090000
END:STANDARD
BEGIN:DAYLIGHT
TZOFFSETFROM:-0800
TZOFFSETTO:-0700
TZNAME:PDT
DTSTART:20250309T100000
END:DAYLIGHT
BEGIN:STANDARD
TZOFFSETFROM:-0700
TZOFFSETTO:-0800
TZNAME:PST
DTSTART:20251102T090000
END:STANDARD
BEGIN:DAYLIGHT
TZOFFSETFROM:-0800
TZOFFSETTO:-0700
TZNAME:PDT
DTSTART:20260308T100000
END:DAYLIGHT
BEGIN:STANDARD
TZOFFSETFROM:-0700
TZOFFSETTO:-0800
TZNAME:PST
DTSTART:20261101T090000
END:STANDARD
END:VTIMEZONE
BEGIN:VEVENT
DTSTART;TZID=America/Toronto:20250914T183000
DTEND;TZID=America/Toronto:20260125T200000
DTSTAMP:20260419T134951
CREATED:20250828T135042Z
LAST-MODIFIED:20250828T135049Z
UID:10001448-1757874600-1769371200@talkdeath.com
SUMMARY:Radical Mindfulness: Why Transforming Fear of Death is Politically Vital book club
DESCRIPTION:Are you interested in how the existential fear of death shapes society? Do you wonder how we can address injustice? Join our weekly online reading group\, Radical Mindfulness\, to explore how mindfulness can serve as a powerful tool for political transformation. Together\, we’ll build a supportive community of care and reflection. Whether you’re seeking connection\, inspiration\, or fresh perspectives\, this space offers an opportunity to learn and grow in solidarity. We meet via Zoom on Sundays. Recordings will be shared after each gathering. \n-Sundays 6:30 to 8pm ET beginning September 14th\n-Free to attend\n-Free PDF of the book from author\, James Rowe\n-Physical copy offered with a 30% discount from Routledge \nThis weekly reading and discussion of Radical Mindfulness will explore the causes of injustice and how to achieve social transformation. Drawing from scholarly literature\, the author suggests the existential fear of death is at the root of oppression\, and that meditation and ritual can be pathways to structural change. \nThis will be different from most book clubs. There is no homework; each week we pick up where we left off and read together. We will pause for questions\, reflections\, clarifications\, as ways to engage the material. We look forward to creating a community of both practice and curiosity. (We estimate 6 months of reading together!)
URL:https://talkdeath.com/event/radical-mindfulness-why-transforming-fear-of-death-is-politically-vital-book-club/
LOCATION:ON
CATEGORIES:Virtual
ATTACH;FMTTYPE=image/jpeg:https://talkdeath.com/wp-content/uploads/2025/08/810EeSjcWuL._SL1500_.jpg
END:VEVENT
BEGIN:VEVENT
DTSTART;TZID=America/Los_Angeles:20250920T110000
DTEND;TZID=America/Los_Angeles:20250920T140000
DTSTAMP:20260419T134951
CREATED:20250820T152126Z
LAST-MODIFIED:20250820T152126Z
UID:10001446-1758366000-1758376800@talkdeath.com
SUMMARY:The Snail's Pace Picnic
DESCRIPTION:Bring your blanket\, your favorite slow snack\, and your willingness to do absolutely nothing quickly. This is a gathering for the unhurried\, the overstimulated\, the nap-curious\, and anyone who’s been craving a soft place to land. \nWe’ll spread out under the trees\, graze on snacks\, and enjoy simple\, snail-approved activities like: \nSnail mail station \nSlowness journaling prompts \nSoft-spoken\, low-pressure conversation starters \nCome when you can\, leave when you feel like it; there’s no such thing as “late” here. You can bring food to share\, a favorite tea\, or just yourself. \nWhat to bring: \nBlanket or low chair \nYour favorite snack or drink \nAnything that helps you slow down (book\, journal\, knitting\, etc.) \nThe vibe: \nCozy \nUnhurried \nInclusive \nGrounded in rest over productivity \nLet’s gather\, graze\, and go slow together. Because sometimes the best way forward… is at a snail’s pace.
URL:https://talkdeath.com/event/the-snails-pace-picnic/
LOCATION:Barnsdall Art Park\, 4800 Hollywood Boulevard\, Los Angeles\, 90027\, United States
CATEGORIES:Arts and Crafts,BiPoC,Community Meet Up,Grief Group,Grief Release,Peer-Led Grief Support
ATTACH;FMTTYPE=image/png:https://talkdeath.com/wp-content/uploads/2025/08/Green-and-Yellow-Floral-Brushstrokes-Picnic-Invitation-1.png
ORGANIZER;CN="Prism Memorial":MAILTO:deathwithlex@gmail.com
END:VEVENT
BEGIN:VEVENT
DTSTART;TZID=America/Toronto:20250920T130000
DTEND;TZID=America/Toronto:20250920T150000
DTSTAMP:20260419T134951
CREATED:20250829T171725Z
LAST-MODIFIED:20250829T171725Z
UID:10001451-1758373200-1758380400@talkdeath.com
SUMMARY:Orlanodo\, The ODC Presents: Meet a Death Doula
DESCRIPTION:What the heck is a death doula? You’ll have to attend this next event to find out!! (Or you could Google it\, but wouldn’t that ruin the fun?) \nFor this next event\, I’ve invited a few death doulas to meet the ODC and tell us about what they do\, who they serve\, and what makes a death doula unique in the world of deathcare. \nOnce I can confirm which doulas are showing up\, I will post a few days before the event. \nSo\, please RSVP\, bring your questions\, and let’s have another good session!
URL:https://talkdeath.com/event/orlanodo-the-odc-presents-meet-a-death-doula/
LOCATION:Orange County Library South Trail Branch\, 4600 S Orange Blossom Trl\, Orlando\, FL\, United States
CATEGORIES:Community Meet Up,Education
ATTACH;FMTTYPE=image/png:https://talkdeath.com/wp-content/uploads/2025/08/Death-Collective-925.png
ORGANIZER;CN="Orlando Death Collective":MAILTO:ikstarni16@gmail.com
END:VEVENT
END:VCALENDAR